BEGIN:VCALENDAR
VERSION:2.0
PRODID:DPCALENDAR
CALSCALE:GREGORIAN
BEGIN:VTIMEZONE
TZID:Europe/Berlin
X-MICROSOFT-CDO-TZID:4
BEGIN:STANDARD
DTSTART:20251026T010000
TZOFFSETFROM:+0200
TZOFFSETTO:+0100
TZNAME:CET
END:STANDARD
BEGIN:STANDARD
DTSTART:20261025T010000
TZOFFSETFROM:+0200
TZOFFSETTO:+0100
TZNAME:CET
END:STANDARD
BEGIN:DAYLIGHT
DTSTART:20260329T010000
TZOFFSETFROM:+0100
TZOFFSETTO:+0200
TZNAME:CEST
END:DAYLIGHT
END:VTIMEZONE
X-WR-TIMEZONE:Europe/Berlin
BEGIN:VEVENT
DTSTART;TZID=Europe/Berlin:20220309T000000
DTEND;TZID=Europe/Berlin:20220309T010000
UID:D0F9F366-8218-4112-92A0-96D6139A1CCB
SUMMARY:Waiblinger Kammerorchester - Frühlingskonzert im Ghibellinensaal
CREATED:20220308T231137Z
DTSTAMP:20220308T231137Z
URL:https://www.danielkartmann.de/termine/waiblinger-kammerorchester-fruehlingskonzert-im-ghibellinensaal
LAST-MODIFIED:20220308T232624Z
SEQUENCE:887
X-ACCESS:1
X-HITS:27
X-COLOR:cc3333
X-SHOW-END-TIME:0
END:VEVENT
BEGIN:VEVENT
DTSTART;TZID=Europe/Berlin:20221112T210000
DTEND;TZID=Europe/Berlin:20221112T220000
UID:6E521B76-1EE7-403D-9D29-64F1026CBD8F
SUMMARY:Due Due Finale mit Suedheim 
CREATED:20221207T222121Z
DTSTAMP:20221207T222121Z
URL:https://www.theaterlalunestuttgart.de/
DESCRIPTION: \NUm 21 Uhr spielt Suedheim ein paar Songs von der Debut-LP „In deinen Schuhen“. Es ist quasi ein Hors-d`oeuvre unseres Konzertes und der erste Auftritt in neuer Besetzung und mit unserem Album, dass wir natürlich dabei haben und signiert verkaufen werden.\N 
X-ALT-DESC;FMTTYPE=text/html:<div class="" dir="auto" style="font-size: 12pt; caret-color: #003366; color: #003366; font-family: 'courier new', courier; padding-left: 80px;"> </div><div class="" dir="auto" style="font-size: 12pt; caret-color: #003366; color: #003366; font-family: 'courier new', courier; padding-left: 80px;">Um <b>21 Uhr</b> spielt <b>Suedheim</b> ein paar Songs von der Debut-LP „In deinen Schuhen“. Es ist quasi ein Hors-d`oeuvre unseres Konzertes und der erste Auftritt in neuer Besetzung und mit unserem Album, dass wir natürlich dabei haben und signiert verkaufen werden.</div><div class="" dir="auto" style="font-size: 12pt; caret-color: #003366; color: #003366; font-family: 'courier new', courier; padding-left: 80px;"> </div>
LAST-MODIFIED:20221207T224408Z
SEQUENCE:1367
LOCATION:Gablenberger Hauptstrasse  130 \, 70186  Stuttgart\, Baden Württemberg
GEO:48.77468480;9.20317220
X-LOCATION-DISPLAYNAME:Theater La Lune Stuttgart
X-ACCESS:1
X-HITS:1
X-COLOR:cc3333
X-SHOW-END-TIME:0
END:VEVENT
BEGIN:VEVENT
DTSTART;TZID=Europe/Berlin:20240517T210000
DTEND;TZID=Europe/Berlin:20240517T230000
UID:30DFA9AC-1150-418D-A954-3302C8BC69B7
SUMMARY:Suedheim Konzert Rakete Stuttgart 
CREATED:20240115T233813Z
DTSTAMP:20240115T233813Z
URL:https://theaterrampe.de/programm/kalender/
DESCRIPTION:Suedheim spielt das erste Konzert seit der Veröffentlichung der ersten Platte "In deinen Schuhen". Ausserdem präsentieren wir noch ein paar neue Songs, denn wir arbeiten gerade an der zweiten Platte! \NMathias Bach - Gitarre, Gesang, Musik und Texte\NAxel Huber - Gitarre\NEkkehard Rössle - Tenorsaxofon, Sopransaxofon und Bassklarinette\NDieter Fischer - Bass\NDaniel Kartmann - Drums
X-ALT-DESC;FMTTYPE=text/html:<p>Suedheim spielt das erste Konzert seit der Veröffentlichung der ersten Platte "In deinen Schuhen". Ausserdem präsentieren wir noch ein paar neue Songs, denn wir arbeiten gerade an der zweiten Platte! </p><p>Mathias Bach - Gitarre, Gesang, Musik und Texte</p><p>Axel Huber - Gitarre</p><p>Ekkehard Rössle - Tenorsaxofon, Sopransaxofon und Bassklarinette</p><p>Dieter Fischer - Bass</p><p>Daniel Kartmann - Drums</p>
LAST-MODIFIED:20240115T234542Z
SEQUENCE:449
LOCATION:
GEO:48.76380760;9.17074160
X-LOCATION-DISPLAYNAME:Deutschland, Baden-Württemberg, Stuttgart, 70180, Filderstraße
X-ACCESS:1
X-HITS:977
X-COLOR:cc3333
X-SHOW-END-TIME:1
END:VEVENT
BEGIN:VEVENT
DTSTART;TZID=Europe/Berlin:20250815T010000
DTEND;TZID=Europe/Berlin:20250815T020000
UID:F436362E-D90E-4F73-B885-28AB1CD93A63
SUMMARY:Zakuska Ighisul Vechi 
CREATED:20250814T232802Z
DTSTAMP:20250814T232802Z
URL:https://www.danielkartmann.de/termine/zakuska-ighisul-vechi
LOCATION:
GEO:45.98973030;24.48407200
X-LOCATION-DISPLAYNAME:Rumänien, Hermannstadt, Bürgisch, 557037
X-ACCESS:1
X-HITS:2
X-COLOR:cc3333
X-SHOW-END-TIME:1
END:VEVENT
BEGIN:VEVENT
DTSTART;TZID=Europe/Berlin:20251004T170000
DTEND;TZID=Europe/Berlin:20251004T190000
UID:BF7CD930-9E31-49F6-9FA7-3D2F84A5A524
SUMMARY:Suedheim - Die Schallplatte Cannstatt - live und open air
CREATED:20251003T210129Z
DTSTAMP:20251003T210129Z
URL:https://die-schallplatte.de/events/
DESCRIPTION:Suedheim spielt zum ersten Mal in Bad Cannstatt - im Osten der Stadt mit dabei haben sie ihre Langspielplatte (www.suedheim.bandcamp.com) und sicher schon neues Material für zwei Doppel LPs. "Kurt sagt": nicht verpassen! \NMathias Bach – Gesang, GitarreAxel Huber – E-GitarreDieter Fischer – BassEkkehard Rössle – SaxofonDaniel Kartmann – Schlagzeug
X-ALT-DESC;FMTTYPE=text/html:<p>Suedheim spielt zum ersten Mal in Bad Cannstatt - im Osten der Stadt mit dabei haben sie ihre Langspielplatte (www.suedheim.bandcamp.com) und sicher schon neues Material für zwei Doppel LPs. "Kurt sagt": nicht verpassen! </p><p>Mathias Bach – Gesang, Gitarre<br />Axel Huber – E-Gitarre<br />Dieter Fischer – Bass<br />Ekkehard Rössle – Saxofon<br />Daniel Kartmann – Schlagzeug</p>
LAST-MODIFIED:20251003T210141Z
SEQUENCE:12
LOCATION:
GEO:48.80433980;9.21589350
X-LOCATION-DISPLAYNAME:Deutschland, Baden-Württemberg, Stuttgart, 70372, Spreuergasse, 3
X-ACCESS:1
X-HITS:54
X-COLOR:cc3333
X-SHOW-END-TIME:1
END:VEVENT
BEGIN:VEVENT
DTSTART;TZID=Europe/Berlin:20260207T200000
DTEND;TZID=Europe/Berlin:20260207T220000
UID:B58FEDDD-BC39-4B07-A68C-93560F52C2C1
SUMMARY:Sunswept Sunday - The Duke Music Tour 2026, Bamberg, Jazzclub
CREATED:20251221T232750Z
DTSTAMP:20251221T232750Z
URL:https://www.jcbamberg.de/veranstaltungen
DESCRIPTION:Sunswept Sunday sind Daniel Kartmann (Stuttgart) an Schlagzeug, Hackbrett und Zink und Torsten Papenheim (Berlin) an Gitarre, Perkussion und Melodika.\NSeit 2020 erschließen sich Daniel Kartmann und Torsten Papenheim gemeinsam als SUNSWEPT SUNDAY das Werk des großen amerikanischen Komponisten - mit Liebe zum Detail und Sinn für die große Form. SUNSWEPT SUNDAY leuchten dabei eher unbekanntere Seiten von Duke Ellingtons Schaffen aus und machen deutlich, dass seine Musik auch 50 Jahre nach seinem Tod und jenseits der klassischen Big-Band-Besetzung spannend bleibt.Im Januar 2023 erschien bei dem jungen tschechischen Label Ma Records das Debütalbum von SUNSWEPT SUNDAY: 'HalfwayTo Dawn'"Wie Kippbilder hört man bei 'HalfwayTo Dawn' immer nur einige Aspekte der Komposition, aber das sind die wesentlichen. Geschmacks- und stilsicher, klug, mit großer Empathie gemacht. Chapeau!" (Ernst Mitter, freiStil, Österreich)\NSeit der Veröffentlichung von 'HalfwayTo Dawn' haben SUNSWEPT SUNDAY zahlreiche Konzerte und Festivalauftritte in Europa gespielt. Und auch in diesem Jahr wird das umtriebige Duo viel unterwegs sein. Dabei werden SUNSWEPT SUNDAY nicht nur die Stücke ihres Debüts mit im Gepäck haben, sondern auch Ellingtonkompositionen zu Gehör bringen, die sie derzeit für neue Studioaufnahmen arrangieren.Gefördert vom Jazzverband Baden Württemberg 
X-ALT-DESC;FMTTYPE=text/html:<p>Sunswept Sunday sind Daniel Kartmann (Stuttgart) an Schlagzeug, Hackbrett und Zink und Torsten Papenheim (Berlin) an Gitarre, Perkussion und Melodika.</p><p>Seit 2020 erschließen sich Daniel Kartmann und Torsten Papenheim gemeinsam als SUNSWEPT SUNDAY das Werk des großen amerikanischen Komponisten - mit Liebe zum Detail und Sinn für die große Form. SUNSWEPT SUNDAY leuchten dabei eher unbekanntere Seiten von Duke Ellingtons Schaffen aus und machen deutlich, dass seine Musik auch 50 Jahre nach seinem Tod und jenseits der klassischen Big-Band-Besetzung spannend bleibt.<br />Im Januar 2023 erschien bei dem jungen tschechischen Label Ma Records das Debütalbum von SUNSWEPT SUNDAY: 'HalfwayTo Dawn'<br />"Wie Kippbilder hört man bei 'HalfwayTo Dawn' immer nur einige Aspekte der Komposition, aber das sind die wesentlichen. Geschmacks- und stilsicher, klug, mit großer Empathie gemacht. Chapeau!" (Ernst Mitter, freiStil, Österreich)</p><p>Seit der Veröffentlichung von 'HalfwayTo Dawn' haben SUNSWEPT SUNDAY zahlreiche Konzerte und Festivalauftritte in Europa gespielt. Und auch in diesem Jahr wird das umtriebige Duo viel unterwegs sein. Dabei werden SUNSWEPT SUNDAY nicht nur die Stücke ihres Debüts mit im Gepäck haben, sondern auch Ellingtonkompositionen zu Gehör bringen, die sie derzeit für neue Studioaufnahmen arrangieren.<br />Gefördert vom Jazzverband Baden Württemberg </p>
LOCATION:
GEO:49.89199790;10.88364990
X-LOCATION-DISPLAYNAME:Deutschland, Bayern, Bamberg, 96049, Obere Sandstraße, 18
X-ACCESS:1
X-HITS:142
X-COLOR:cc3333
X-SHOW-END-TIME:1
END:VEVENT
END:VCALENDAR