BEGIN:VCALENDAR
VERSION:2.0
PRODID:DPCALENDAR
CALSCALE:GREGORIAN
BEGIN:VTIMEZONE
TZID:Europe/Berlin
X-MICROSOFT-CDO-TZID:4
BEGIN:STANDARD
DTSTART:20251026T010000
TZOFFSETFROM:+0200
TZOFFSETTO:+0100
TZNAME:CET
END:STANDARD
BEGIN:STANDARD
DTSTART:20261025T010000
TZOFFSETFROM:+0200
TZOFFSETTO:+0100
TZNAME:CET
END:STANDARD
BEGIN:DAYLIGHT
DTSTART:20260329T010000
TZOFFSETFROM:+0100
TZOFFSETTO:+0200
TZNAME:CEST
END:DAYLIGHT
END:VTIMEZONE
X-WR-TIMEZONE:Europe/Berlin
BEGIN:VEVENT
DTSTART;TZID=Europe/Berlin:20200725T183000
DTEND;TZID=Europe/Berlin:20200725T220000
UID:3FA78A0A-6477-4228-82B4-D8AD42CA2664
SUMMARY:Zeitsprung Consort: Alte Musik, Konzertreihe im Röhm
CREATED:20200716T123547Z
DTSTAMP:20200716T123547Z
URL:https://www.danielkartmann.de/termine/zeitsprung-consort-alte-musik-konzertreihe-im-roehm
DESCRIPTION:Am Samstag, 25. Juli, bringt das Zeitsprung Consort, bestehend aus Daniel Kartmann (Stimme und Schlagwerk), Johannes Vogt (Laute) und Rüdiger Kurz (Violone) mit „Die Fünf Priameln“ um 18.30 Uhr und um 20.30 Uhr Musik des in Schwäbisch Gmünd gebürtigen Lautenvirtuosen Hans Judenkünig im Kontext mit zeitgenössischen Improvisationen auf die Bühne.\N \Nhttps://www.schorndorf.de/de/stadt-buerger/aktuelles/stadtnachrichten/stadtnachricht?view=publish&id=6522
X-ALT-DESC;FMTTYPE=text/html:<div>Am Samstag,<strong> 25. Juli,</strong> bringt das Zeitsprung Consort, bestehend aus Daniel Kartmann (Stimme und Schlagwerk), Johannes Vogt (Laute) und Rüdiger Kurz (Violone) mit „Die Fünf Priameln“ um 18.30 Uhr und um 20.30 Uhr Musik des in Schwäbisch Gmünd gebürtigen Lautenvirtuosen Hans Judenkünig im Kontext mit zeitgenössischen Improvisationen auf die Bühne.</div><div> </div><div><a href="https://www.schorndorf.de/de/stadt-buerger/aktuelles/stadtnachrichten/stadtnachricht?view=publish&amp;id=6522">https://www.schorndorf.de/de/stadt-buerger/aktuelles/stadtnachrichten/stadtnachricht?view=publish&amp;id=6522</a></div>
LAST-MODIFIED:20200724T134413Z
SEQUENCE:695306
LOCATION:Weilerstraße 6\, Baden-Württemberg
GEO:48.80509125;9.51921049
X-LOCATION-DISPLAYNAME:Röhm, Schorndorf
X-ACCESS:1
X-HITS:17
X-COLOR:ff1c1c
X-SHOW-END-TIME:0
END:VEVENT
BEGIN:VEVENT
DTSTART;TZID=Europe/Berlin:20200725T200000
DTEND;TZID=Europe/Berlin:20200725T213000
UID:8FAB78BE-F04C-4A8A-894D-769D11A23784
SUMMARY:Zeitsprung Consort: Alte Musik, Konzertreihe im Röhm
CREATED:20200716T123547Z
DTSTAMP:20200716T123547Z
URL:https://www.danielkartmann.de/termine/zeitsprung-consort-alte-musik-konzertreihe-im-roehm-2
DESCRIPTION:Am Samstag, 25. Juli, bringt das Zeitsprung Consort, bestehend aus Daniel Kartmann (Stimme und Schlagwerk), Johannes Vogt (Laute) und Rüdiger Kurz (Violone) mit „Die Fünf Priameln“ um 18.30 Uhr und um 20.30 Uhr Musik des in Schwäbisch Gmünd gebürtigen Lautenvirtuosen Hans Judenkünig im Kontext mit zeitgenössischen Improvisationen auf die Bühne.\N \Nhttps://www.schorndorf.de/de/stadt-buerger/aktuelles/stadtnachrichten/stadtnachricht?view=publish&id=6522
X-ALT-DESC;FMTTYPE=text/html:<div>Am Samstag,<strong> 25. Juli,</strong> bringt das Zeitsprung Consort, bestehend aus Daniel Kartmann (Stimme und Schlagwerk), Johannes Vogt (Laute) und Rüdiger Kurz (Violone) mit „Die Fünf Priameln“ um 18.30 Uhr und um 20.30 Uhr Musik des in Schwäbisch Gmünd gebürtigen Lautenvirtuosen Hans Judenkünig im Kontext mit zeitgenössischen Improvisationen auf die Bühne.</div><div> </div><div><a href="https://www.schorndorf.de/de/stadt-buerger/aktuelles/stadtnachrichten/stadtnachricht?view=publish&amp;id=6522">https://www.schorndorf.de/de/stadt-buerger/aktuelles/stadtnachrichten/stadtnachricht?view=publish&amp;id=6522</a></div>
LAST-MODIFIED:20200724T134421Z
SEQUENCE:695314
LOCATION:Weilerstraße 6\, Baden-Württemberg
GEO:48.80509125;9.51921049
X-LOCATION-DISPLAYNAME:Röhm, Schorndorf
X-ACCESS:1
X-HITS:19
X-COLOR:ff1c1c
X-SHOW-END-TIME:0
END:VEVENT
BEGIN:VEVENT
DTSTART;TZID=Europe/Berlin:20220325T200000
DTEND;TZID=Europe/Berlin:20220325T223000
UID:2EA5AB3A-BF0A-4932-98F9-088BE691FD1C
SUMMARY:Zeitsprung Consort - Die Fünf Priameln
CREATED:20220308T233310Z
DTSTAMP:20220308T233310Z
URL:https://www.theaterlalunestuttgart.de/zeitsprung-consort-die-fuenf-priameln/
DESCRIPTION:Zeitsprung Consort - Die Fünf Priameln\NJohannes Vogt (Laute), Rüdiger Kurz (Violone) und Daniel Kartmann (Schlagzeug & Stimme) kommen aus unterschiedlichen Richtungen, sie sind neugierig und stets auf der Suche nach neuen Klangräumen. DasInteresse für Lyrik, für Geschichten aber auch für sozial-politische Umstände inspiriert die Band immer wieder zu eigenen Songs und Arrangements. Sie lassen sich gerne treiben: von Ideen, Klängen und Rhythmen. Sienähren sich vom Strandgut vergangener Jahrhunderte für ihren individuellen, modernen Bandsound.Ihr neues Programm entwickeln sie wieder erwartungsgemäss dynamisch mit den „Die fünf Priameln“ aus „Ain schone künstliche Underweisung in disem Büechlein, leychtlich zu begreyffen den rechten Grund zu lernen auff der Lautten und Geygen“ (Wien 1523) des Lautenvirtuosen und Komponisten Hans Judenkünig (ca. 1450–1526) und eigenen Songs und Improvisationen über und von diesen Stücken. In der besonderen Besetzung mit Laute, Violone, Percussion und Gesang entfalten sie ihren ganz besonderen klanglichen undasoziativen Raum und Reiz.Die Geschichte begann 2009 bei den Salzburger Festspielen: Im Rahmen einer Opernproduktion des Staatstheaters Stuttgart fanden sich die drei Musiker als Rhythmusgruppe in einem Barockorchester, wo sie die Schauspieler und Sänger improvisatorisch begleiten und zeitweilig auch vor sich hertreiben mussten. Als sie dann noch eines Abends beim Grillfest der Bühnentechniker als Band musizierten, war das Zeitsprung Consort geboren. Eine Band, die „barockt“ und gemeinsame Leidenschaften teilt: Alte Musik und moderneImprovisation.[…] Es war nicht nur ein Abend an dem perfekt musiziert wurde, sondern es gab den besonderen Flow, der zwischen den Künstlern geflossen und aufs Publikum übergesprungen ist. Viele neugierige Gäste kamen,ohne genau zu wissen, was der Abend bringt. Sie erlebten eine Musik, die zeitlich, kulturell und stilistisch nicht einzuordnen war, aber umso mehr den eigentlichen Kern von zusammen Musizieren ausmacht […] (Waiblinger Kreiszeitung, 1.3.2016)Eine Auswahl bisheriger Stationen u.a. als Rhythmusgruppe der Capella Duna Mobile, die sich sehen lassenkann:2009/10 Improvisations-Combo bei einer Judith-Produktion (Regie: Sebastian Nübling) bei den Salzburger Festspielen 2009 und am Staatstheater Stuttgart2009/10.2011 Halleiner Festwochen & Schloss Goldegg (ORF Mitschnitt)2012 Donaufest Ulm2013 Ludwigsburger Schlossfestspiele („Tauffest für Georg Daniel Speer“, SWR- Mitschnitt)2014 Eröffnung Kultursommer Pustertal in Lienz (ORF-Mitschnitt) &Eröffnungsveranstaltung zu 500 Jahre Bauernaufstände des „Armer Konrad“ (Schorndorf)2017 „badiamusica“ Festival ( Südtirol )2018 Aufnahmen für eine Erstveröffentlichung beim „Perfect Noise“-LabelDie bisherigen Programme: „Wo soll ich mich hinkeren“, „Luther, Miles &More“, „La Folia leggera“
X-ALT-DESC;FMTTYPE=text/html:<p>Zeitsprung Consort - Die Fünf Priameln</p><p>Johannes Vogt (Laute), Rüdiger Kurz (Violone) und Daniel Kartmann (Schlagzeug &amp; Stimme) kommen aus unterschiedlichen Richtungen, sie sind neugierig und stets auf der Suche nach neuen Klangräumen. Das<br />Interesse für Lyrik, für Geschichten aber auch für sozial-politische Umstände inspiriert die Band immer wieder zu eigenen Songs und Arrangements. Sie lassen sich gerne treiben: von Ideen, Klängen und Rhythmen. Sie<br />nähren sich vom Strandgut vergangener Jahrhunderte für ihren individuellen, modernen Bandsound.<br />Ihr neues Programm entwickeln sie wieder erwartungsgemäss dynamisch mit den „Die fünf Priameln“ aus „Ain schone künstliche Underweisung in disem Büechlein, leychtlich zu begreyffen den rechten Grund zu lernen auff der Lautten und Geygen“ (Wien 1523) des Lautenvirtuosen und Komponisten Hans Judenkünig (ca. 1450–1526) und eigenen Songs und Improvisationen über und von diesen Stücken. In der besonderen Besetzung mit Laute, Violone, Percussion und Gesang entfalten sie ihren ganz besonderen klanglichen und<br />asoziativen Raum und Reiz.<br />Die Geschichte begann 2009 bei den Salzburger Festspielen: Im Rahmen einer Opernproduktion des Staatstheaters Stuttgart fanden sich die drei Musiker als Rhythmusgruppe in einem Barockorchester, wo sie die Schauspieler und Sänger improvisatorisch begleiten und zeitweilig auch vor sich hertreiben mussten. Als sie dann noch eines Abends beim Grillfest der Bühnentechniker als Band musizierten, war das Zeitsprung Consort geboren. Eine Band, die „barockt“ und gemeinsame Leidenschaften teilt: Alte Musik und moderne<br />Improvisation.<br />[…] Es war nicht nur ein Abend an dem perfekt musiziert wurde, sondern es gab den besonderen Flow, der zwischen den Künstlern geflossen und aufs Publikum übergesprungen ist. Viele neugierige Gäste kamen,<br />ohne genau zu wissen, was der Abend bringt. Sie erlebten eine Musik, die zeitlich, kulturell und stilistisch nicht einzuordnen war, aber umso mehr den eigentlichen Kern von zusammen Musizieren ausmacht […] (Waiblinger Kreiszeitung, 1.3.2016)<br />Eine Auswahl bisheriger Stationen u.a. als Rhythmusgruppe der Capella Duna Mobile, die sich sehen lassen<br />kann:<br />2009/10 Improvisations-Combo bei einer Judith-Produktion (Regie: Sebastian Nübling) bei den Salzburger Festspielen 2009 und am Staatstheater Stuttgart<br />2009/10.<br />2011 Halleiner Festwochen &amp; Schloss Goldegg (ORF Mitschnitt)<br />2012 Donaufest Ulm<br />2013 Ludwigsburger Schlossfestspiele („Tauffest für Georg Daniel Speer“, SWR- Mitschnitt)<br />2014 Eröffnung Kultursommer Pustertal in Lienz (ORF-Mitschnitt) &amp;<br />Eröffnungsveranstaltung zu 500 Jahre Bauernaufstände des „Armer Konrad“ (Schorndorf)<br />2017 „badiamusica“ Festival ( Südtirol )<br />2018 Aufnahmen für eine Erstveröffentlichung beim „Perfect Noise“-Label<br />Die bisherigen Programme: „Wo soll ich mich hinkeren“, „Luther, Miles &amp;More“, „La Folia leggera“</p>
LAST-MODIFIED:20220308T233404Z
SEQUENCE:54
LOCATION:Gablenberger Hauptstrasse  130 \, 70186  Stuttgart\, Baden Württemberg
GEO:48.77468480;9.20317220
X-LOCATION-DISPLAYNAME:Theater La Lune Stuttgart
X-ACCESS:1
X-HITS:77
X-COLOR:ff1c1c
X-SHOW-END-TIME:1
END:VEVENT
BEGIN:VEVENT
DTSTART;TZID=Europe/Berlin:20250523T210000
DTEND;TZID=Europe/Berlin:20250523T233000
UID:4722CBB1-7BCB-46B3-A017-21034F770BC5
SUMMARY:Zeitsprung Consort & Sightings 
CREATED:20250409T225123Z
DTSTAMP:20250409T225123Z
URL:https://www.danielkartmann.de/termine/zeitsprung-consort-sightings
DESCRIPTION:\N\N\N\N21:00 Zeitsprung Consort - Wo soll ich mich hinkeren - Musik aus der Zeit der Bauernkriege\NRüdiger Kurz (Violine), Daniel Kartmann (Schlag-werk, Zink, Gesang), Johannes Vogt (Laute).\N \N22:00 SIGHTINGS". \NLI PING TING dance voices actions David Chiesa double bass Christophe Cardoen lightingMichel Doneda soprano sax. \N\N\N\N
X-ALT-DESC;FMTTYPE=text/html:<div class="page" title="Page 1"><div class="section" style="background-color: rgb(100.000000%, 100.000000%, 100.000000%);"><div class="layoutArea"><div class="column"><p><span style="font-size: 14.000000pt; font-family: 'Helvetica';">21:00 Zeitsprung Consort - Wo soll ich mich hinkeren - Musik aus der Zeit der Bauernkriege</span></p><p><span style="font-size: 14.000000pt; font-family: 'Helvetica';">Rüdiger Kurz (Violine), Daniel Kartmann (Schlag-<br />werk, Zink, Gesang), Johannes Vogt (Laute).</span></p><p> </p><p><span style="font-size: 14.000000pt; font-family: 'Helvetica';">22:00 </span><span style="font-size: 14.000000pt; font-family: 'Helvetica';">SIGHTINGS". </span></p><p><span style="font-size: 14.000000pt; font-family: 'Helvetica';">LI PING TING dance voices actions David Chiesa double bass Christophe Cardoen lighting<br />Michel Doneda soprano sax. </span></p></div></div></div></div>
LAST-MODIFIED:20250409T225327Z
SEQUENCE:124
LOCATION:Weberstrasse  9\, 70182 Stuttgart\, Baden-Württemberg
GEO:0.00000000;0.00000000
X-LOCATION-DISPLAYNAME:tearoom e.V. 
X-ACCESS:1
X-HITS:256
X-COLOR:ff1c1c
X-SHOW-END-TIME:1
END:VEVENT
BEGIN:VEVENT
DTSTART;TZID=Europe/Berlin:20250524T190000
DTEND;TZID=Europe/Berlin:20250524T200000
UID:47DC194D-1E94-4E26-95C9-B234EB85545F
SUMMARY:Zeitsprung Consort - 500 Jahre Bauernkrieg Weinsberg 
CREATED:20250409T224656Z
DTSTAMP:20250409T224656Z
URL:https://www.weinsberg.de/freizeit-und-kultur/500-jahre-bauernkrieg-weinsberger-blutostern/10-ausdruck-a4-programm-bauernkireg-12s-l-din-2025.pdf?cid=1oed
DESCRIPTION:„Wo Soll Ich Mich Hinkeren...“19:00 Uhr, Baukelter, Michael-Beheim-SaalEin begeisterndes Konzert auf Instrumenten aus der Zeitum 1525. Rüdiger Kurz (Violine), Daniel Kartmann (Schlag-werk, Zink, Gesang), Johannes Vogt (Laute). Eintritt: 15 €
X-ALT-DESC;FMTTYPE=text/html:<p>„Wo Soll Ich Mich Hinkeren...“<br />19:00 Uhr, Baukelter, Michael-Beheim-Saal<br />Ein begeisterndes Konzert auf Instrumenten aus der Zeit<br />um 1525. Rüdiger Kurz (Violine), Daniel Kartmann (Schlag-<br />werk, Zink, Gesang), Johannes Vogt (Laute). Eintritt: 15 €</p>
X-ACCESS:1
X-HITS:219
X-COLOR:ff1c1c
X-SHOW-END-TIME:1
END:VEVENT
END:VCALENDAR