BEGIN:VCALENDAR
VERSION:2.0
PRODID:DPCALENDAR
CALSCALE:GREGORIAN
BEGIN:VTIMEZONE
TZID:Europe/Berlin
X-MICROSOFT-CDO-TZID:4
BEGIN:STANDARD
DTSTART:20251026T010000
TZOFFSETFROM:+0200
TZOFFSETTO:+0100
TZNAME:CET
END:STANDARD
BEGIN:STANDARD
DTSTART:20261025T010000
TZOFFSETFROM:+0200
TZOFFSETTO:+0100
TZNAME:CET
END:STANDARD
BEGIN:DAYLIGHT
DTSTART:20260329T010000
TZOFFSETFROM:+0100
TZOFFSETTO:+0200
TZNAME:CEST
END:DAYLIGHT
END:VTIMEZONE
X-WR-TIMEZONE:Europe/Berlin
BEGIN:VEVENT
DTSTART;TZID=Europe/Berlin:20221215T210000
DTEND;TZID=Europe/Berlin:20221215T233000
UID:93683921-B796-40F2-9E20-CDB6D987FE6B
SUMMARY:Flashmob im Holzmaler// danopticum im tearoom
CREATED:20221207T215632Z
DTSTAMP:20221207T215632Z
URL:https://www.facebook.com/tearoom.xsGallery/
DESCRIPTION:Die danopticum - Geister werden wiederbelebt. Im gleichen Rotlichternen Viertel, aber noch abgründiger, noch extremer, noch subversiver. Heute: Flashmob-Performance mit Sandra Hartmann und Oliver Prechtl an der Bar des Holzmaler beginnend und dann mitsamt dem hoffentlich Beglückt-überraschten Bar-Publikum in die Tiefen des dortigen Tearoom-Kellers hinabgleitend um dort mit Daniel Kartmann in einen sinister - experimentellen, frei improvisierten Partyrausch zu verfallen. Kommt vorbei und lasst euch mitreissen in die Abgründe des Stuttgarter Nachtlebens… \N \N 
X-ALT-DESC;FMTTYPE=text/html:<p>Die danopticum - Geister werden wiederbelebt. Im gleichen Rotlichternen Viertel, aber noch abgründiger, noch extremer, noch subversiver. <br />Heute: Flashmob-Performance mit Sandra Hartmann und Oliver Prechtl an der Bar des Holzmaler beginnend und dann mitsamt dem hoffentlich <br />Beglückt-überraschten Bar-Publikum in die Tiefen des dortigen Tearoom-Kellers hinabgleitend um dort mit Daniel Kartmann in einen sinister - experimentellen, frei improvisierten Partyrausch zu verfallen. Kommt vorbei und lasst euch mitreissen in die Abgründe des Stuttgarter Nachtlebens…<br /> </p><p> </p><p> </p>
LAST-MODIFIED:20221212T230819Z
SEQUENCE:436307
LOCATION:Weberstrasse  9\, 70182 Stuttgart\, Baden-Württemberg
GEO:0.00000000;0.00000000
X-LOCATION-DISPLAYNAME:tearoom e.V. 
X-ACCESS:1
X-HITS:95
X-COLOR:8533cc
X-SHOW-END-TIME:0
END:VEVENT
END:VCALENDAR